BEGIN:VCALENDAR
VERSION:2.0
PRODID:-//wp-events-plugin.com//6.6.3//EN
TZID:Europe/Paris
X-WR-TIMEZONE:Europe/Paris
BEGIN:VEVENT
UID:9@tikopia-lefilm.com
DTSTART;TZID=Europe/Paris:20181116T000000
DTEND;TZID=Europe/Paris:20181116T000000
DTSTAMP:20181108T073324Z
URL:https://www.tikopia-lefilm.com/projections/projection/
SUMMARY:Projection
DESCRIPTION:
LOCATION:Espace Luçon\, Boulevard Michel Phelippon\,\, Luçon\, 85400\, Fr
 ance
GEO:46.4612781;-1.177999600000021
X-APPLE-STRUCTURED-LOCATION;VALUE=URI;X-ADDRESS=Boulevard Michel Phelippon\
 ,\, Luçon\, 85400\, France;X-APPLE-RADIUS=100;X-TITLE=Espace Luçon:geo:4
 6.4612781,-1.177999600000021
END:VEVENT
BEGIN:VTIMEZONE
TZID:Europe/Paris
X-LIC-LOCATION:Europe/Paris
BEGIN:STANDARD
DTSTART:20181028T020000
TZOFFSETFROM:+0200
TZOFFSETTO:+0100
TZNAME:CET
END:STANDARD
END:VTIMEZONE
END:VCALENDAR