BEGIN:VCALENDAR
VERSION:2.0
PRODID:-//wp-events-plugin.com//6.6.3//EN
TZID:Europe/Paris
X-WR-TIMEZONE:Europe/Paris
BEGIN:VEVENT
UID:45@tikopia-lefilm.com
DTSTART;TZID=Europe/Paris:20181114T000000
DTEND;TZID=Europe/Paris:20181121T000000
DTSTAMP:20181112T103342Z
URL:https://www.tikopia-lefilm.com/projections/sortie-nationale-13/
SUMMARY:Sortie Nationale
DESCRIPTION:
LOCATION:Cinéma Le Régent\, 16 Rue de l'Indépendance\, Saint-Gaudens\, 3
 1800\, France
GEO:43.1084976;0.7187437000000045
X-APPLE-STRUCTURED-LOCATION;VALUE=URI;X-ADDRESS=16 Rue de l'Indépendance\,
  Saint-Gaudens\, 31800\, France;X-APPLE-RADIUS=100;X-TITLE=Cinéma Le Rég
 ent:geo:43.1084976,0.7187437000000045
END:VEVENT
BEGIN:VTIMEZONE
TZID:Europe/Paris
X-LIC-LOCATION:Europe/Paris
BEGIN:STANDARD
DTSTART:20181028T020000
TZOFFSETFROM:+0200
TZOFFSETTO:+0100
TZNAME:CET
END:STANDARD
END:VTIMEZONE
END:VCALENDAR